BEGIN:VCALENDAR
VERSION:2.0
PRODID:-//Events - ECPv6.15.20//NONSGML v1.0//EN
CALSCALE:GREGORIAN
METHOD:PUBLISH
X-ORIGINAL-URL:https://www.monmouth.edu/events
X-WR-CALDESC:Events for Events
REFRESH-INTERVAL;VALUE=DURATION:PT1H
X-Robots-Tag:noindex
X-PUBLISHED-TTL:PT1H
BEGIN:VTIMEZONE
TZID:America/New_York
BEGIN:DAYLIGHT
TZOFFSETFROM:-0500
TZOFFSETTO:-0400
TZNAME:EDT
DTSTART:20120311T070000
END:DAYLIGHT
BEGIN:STANDARD
TZOFFSETFROM:-0400
TZOFFSETTO:-0500
TZNAME:EST
DTSTART:20121104T060000
END:STANDARD
BEGIN:DAYLIGHT
TZOFFSETFROM:-0500
TZOFFSETTO:-0400
TZNAME:EDT
DTSTART:20130310T070000
END:DAYLIGHT
BEGIN:STANDARD
TZOFFSETFROM:-0400
TZOFFSETTO:-0500
TZNAME:EST
DTSTART:20131103T060000
END:STANDARD
BEGIN:DAYLIGHT
TZOFFSETFROM:-0500
TZOFFSETTO:-0400
TZNAME:EDT
DTSTART:20140309T070000
END:DAYLIGHT
BEGIN:STANDARD
TZOFFSETFROM:-0400
TZOFFSETTO:-0500
TZNAME:EST
DTSTART:20141102T060000
END:STANDARD
END:VTIMEZONE
BEGIN:VEVENT
DTSTART;TZID=America/New_York:20130903T090000
DTEND;TZID=America/New_York:20131205T170000
DTSTAMP:20260423T002511
CREATED:20180725T205220Z
LAST-MODIFIED:20190301T201928Z
UID:40810104326-1378198800-1386262800@www.monmouth.edu
SUMMARY:Gallery Exhibition: Massachusetts
DESCRIPTION:Opening Reception: Friday\, September 20th from 7 – 9 p.m. \nThis exhibition is comprised of nine artists: Steve Smalley\, Henry Pinardi\, Brenda Atwood Pinardi\, John Stevens\, Suzanne Howes-Stevens\, Candace Walters\, Bob Stein\, Robert Cumming\, and Vincent DiMattio; who all have strong personal ties related to Massachusetts. Many of the relationships began as early as 1960 as students of the Massachusetts College of Art. \nJoan and Robert Rechnitz Hall Hours\nMonday – Thursday\, 9 a.m. to 5 p.m.\n\nFriday\, 9 a.m. to 8 p.m. | Saturday\, 10 a.m. to 2 p.m.
URL:https://www.monmouth.edu/events/event/gallery-exhibition-massachusetts/
LOCATION:Joan and Robert Rechnitz Hall
ATTACH;FMTTYPE=image/jpeg:https://www.monmouth.edu/events/wp-content/uploads/sites/19/2018/07/massachusetts_thumb.jpg
END:VEVENT
BEGIN:VEVENT
DTSTART;TZID=America/New_York:20130903T090000
DTEND;TZID=America/New_York:20131213T170000
DTSTAMP:20260423T002511
CREATED:20180725T204643Z
LAST-MODIFIED:20190301T190215Z
UID:40810103351-1378198800-1386954000@www.monmouth.edu
SUMMARY:Selections from the Monmouth University Permanent Collection
DESCRIPTION:Selections from the Monmouth University permanent collection featuring works by various artists\, including ebony carvings\, etchings by Adam Wurtz\, and lithographs by Salvadore Dali.
URL:https://www.monmouth.edu/events/event/selections-from-the-monmouth-university-permanent-collection/
LOCATION:Pollak Gallery
ATTACH;FMTTYPE=image/jpeg:https://www.monmouth.edu/events/wp-content/uploads/sites/19/2018/07/dali3.jpg
END:VEVENT
BEGIN:VEVENT
DTSTART;TZID=America/New_York:20130912T090000
DTEND;TZID=America/New_York:20131115T170000
DTSTAMP:20260423T002511
CREATED:20180725T205219Z
LAST-MODIFIED:20190228T143858Z
UID:40810104323-1378976400-1384534800@www.monmouth.edu
SUMMARY:Gallery Exhibition: Zaun Lee's My No-Man's Land
DESCRIPTION:Opening Reception/Artist Meet & Greet: Thursday\, September 12th from 5 – 7 p.m. \nMy No-Man’s Land\, an exhibition by Zaun Lee\, highlights the raw senses of emotions. The exhibit depicts a journey into a transitional dynamic of one’s own understanding of internal logic of senses in decomposed narratives. \nRotary Ice House Gallery Hours \nMonday – Friday\, 9 a.m. to 5 p.m.
URL:https://www.monmouth.edu/events/event/gallery-exhibition-zaun-lees-my-no-mans-land/
LOCATION:Rotary Ice House Gallery
ATTACH;FMTTYPE=image/jpeg:https://www.monmouth.edu/events/wp-content/uploads/sites/19/2018/07/no_mans_land_thumb.jpg
END:VEVENT
BEGIN:VEVENT
DTSTART;TZID=America/New_York:20130930T193000
DTEND;TZID=America/New_York:20131104T210000
DTSTAMP:20260423T002511
CREATED:20180725T204651Z
LAST-MODIFIED:20180725T204651Z
UID:40810103381-1380569400-1383598800@www.monmouth.edu
SUMMARY:Argentine Tango Classes
DESCRIPTION:September 30 – November 4Monday Evenings from 7:30 to 9:00 pm Eyas Lounge in the MAC Please join instructor Lee Sager of Tango Pantera for a six week session of Argentine Tango Classes. No partner or experience necessary. \nFor more information about Tango Pantera visit www.TangoPantera.Blogspot.com
URL:https://www.monmouth.edu/events/event/argentine-tango-classes/
LOCATION:MAC At Monmouth
CATEGORIES:Dance
ATTACH;FMTTYPE=image/jpeg:https://www.monmouth.edu/events/wp-content/uploads/sites/19/2018/07/WEBTango1waterAP.jpg
END:VEVENT
BEGIN:VEVENT
DTSTART;TZID=America/New_York:20131018T200000
DTEND;TZID=America/New_York:20131018T220000
DTSTAMP:20260423T002511
CREATED:20180725T205209Z
LAST-MODIFIED:20180725T205209Z
UID:40810104296-1382126400-1382133600@www.monmouth.edu
SUMMARY:Julian Sands (In Person) in A Celebration of Harold Pinter
DESCRIPTION:Julian Sands in A Celebration of Harold PinterDirected by John Malkovich \nWith personal anecdotes and reflections drawn from their work together\, Julian Sands (24\, A Room with a View\, The Killing Fields\, The Girl with the Dragon Tattoo\, Impromptu\, Leaving Las Vegas) combines Harold Pinter’s poems and political prose to create a very fresh and intimate insight into the Nobel laureate’s literary legacy. \nIn 2005 Mr. Sands was approached by the Nobel Prize winning playwright and poet Harold Pinter to prepare a set of Pinter’s poems for a special presentation in London. Working closely with Pinter\, he was granted a rare insight into his personality\, life\, and work. This extraordinary collaboration evolved into a wonderfully humorous and fascinating solo show directed by John Malkovich titled\, A Celebration of Harold Pinter.  \nThis is an evening of Homeric theater with an extraordinary actor\, great words\, and an audience.  Devoid of pretension or glittery trappings\, A Celebration of Harold Pinter gets to the soul of the man – poet\, playwright\, husband\, political activist\, Nobel winner\, mortal. A Celebration of Harold Pinter was nominated for a 2013 Drama Desk Award.  \nPost Show Meet and Greet/Conversation with Julian Sands: Be sure to stay after the show for a Q&A with Julian Sands as he shares his personal stories about the great playwright Harold Pinter  
URL:https://www.monmouth.edu/events/event/julian-sands-in-person-in-a-celebration-of-harold-pinter/
LOCATION:Pollak Theatre
CATEGORIES:Arts at Monmouth,Theatre
ATTACH;FMTTYPE=image/jpeg:https://www.monmouth.edu/events/wp-content/uploads/sites/19/2018/07/pinterpc-1.jpg
END:VEVENT
END:VCALENDAR