BEGIN:VCALENDAR
VERSION:2.0
PRODID:-//Events - ECPv6.15.20//NONSGML v1.0//EN
CALSCALE:GREGORIAN
METHOD:PUBLISH
X-ORIGINAL-URL:https://www.monmouth.edu/events
X-WR-CALDESC:Events for Events
REFRESH-INTERVAL;VALUE=DURATION:PT1H
X-Robots-Tag:noindex
X-PUBLISHED-TTL:PT1H
BEGIN:VTIMEZONE
TZID:America/New_York
BEGIN:DAYLIGHT
TZOFFSETFROM:-0500
TZOFFSETTO:-0400
TZNAME:EDT
DTSTART:20120311T070000
END:DAYLIGHT
BEGIN:STANDARD
TZOFFSETFROM:-0400
TZOFFSETTO:-0500
TZNAME:EST
DTSTART:20121104T060000
END:STANDARD
BEGIN:DAYLIGHT
TZOFFSETFROM:-0500
TZOFFSETTO:-0400
TZNAME:EDT
DTSTART:20130310T070000
END:DAYLIGHT
BEGIN:STANDARD
TZOFFSETFROM:-0400
TZOFFSETTO:-0500
TZNAME:EST
DTSTART:20131103T060000
END:STANDARD
BEGIN:DAYLIGHT
TZOFFSETFROM:-0500
TZOFFSETTO:-0400
TZNAME:EDT
DTSTART:20140309T070000
END:DAYLIGHT
BEGIN:STANDARD
TZOFFSETFROM:-0400
TZOFFSETTO:-0500
TZNAME:EST
DTSTART:20141102T060000
END:STANDARD
END:VTIMEZONE
BEGIN:VEVENT
DTSTART;VALUE=DATE:20130211
DTEND;VALUE=DATE:20130601
DTSTAMP:20260423T131203
CREATED:20180725T204846Z
LAST-MODIFIED:20190301T201539Z
UID:40810103774-1360540800-1370044799@www.monmouth.edu
SUMMARY:Student Movie Posters from the Department of Art & Design
DESCRIPTION:2nd Floor\, Rechnitz Hall \nWhat can you do with 4 colors\, 4 names\, 2 locations\, 2 dates\, 2 films genres and 4 adjectives?\n\nFor this project\, students are asked to create a concept for a movie poster for a film that does not exist. As a point of departure\, students are asked to type up a list of colors\, locations\, names\, dates\, adjectives\, and film genres. These words are then cut and distributed (via the nearest baseball hat). This compilation of information is then used as the catalyst for the story. From this exercise\, students write a summary of the movie including plot line and character development. Once the story concept is discussed and approved\, each student begins a visual journey resulting in the work displayed here on the gallery walls.\n\nCoursework from:\n\nAR374 Digital Imaging: Fall 2011\, Spring 2012\, Fall 2012\nProfessors Bright and Cresson
URL:https://www.monmouth.edu/events/event/student-movie-posters-from-the-department-of-art-design/
LOCATION:Joan and Robert Rechnitz Hall
ATTACH;FMTTYPE=image/jpeg:https://www.monmouth.edu/events/wp-content/uploads/sites/19/2018/07/Student_Movie_Posters_Thumb.jpg
END:VEVENT
BEGIN:VEVENT
DTSTART;VALUE=DATE:20130411
DTEND;VALUE=DATE:20130608
DTSTAMP:20260423T131203
CREATED:20180725T204843Z
LAST-MODIFIED:20190301T190454Z
UID:40810103765-1365638400-1370649599@www.monmouth.edu
SUMMARY:Advocacy\, Revelation\, Transcendence - Jacob Landau
DESCRIPTION:Opening Reception: Thurs. April 11 | 6 p.m.\nGallery Talk: Wed. April 17 | 5 p.m. by Dr. David Herrstrom\, President of the Jacob Landau Institute\nGallery Hours: Monday – Friday 9 a.m. – 7 p.m.\nDocent tours are available. \nThe exhibition features a selection of 32 pieces from Monmouth University’s extensive collection of Jacob Landau’s work\, which is comprised of over 300 prints\, drawings\, and paintings. The collection was gifted to Monmouth University in 2008 by the Jacob Landau Institute of Roosevelt\, NJ. \nBorn in Philadelphia in 1917\, Jacob Landau launched his career as an illustrator\, winning national prizes at age 16 and a scholarship to the Philadelphia College of Art. He had over sixty one-person shows and was the recipient of many awards\, including Tiffany\, Guggenheim and National Arts Council grants. Many of his works are featured in permanent collections in the Philadelphia Museum of Art\, the Metropolitan Museum of Art\, and the Museum of Modern Art in New York\, among others. A master teacher\, he retired as professor emeritus at New York’s Pratt Institute. In 1996\, he was awarded an honorary Doctorate in Fine Arts by Monmouth University. \nLandau\, who died in 2001\, won praise for his “humanist” approach to art\, which explored the basic themes of human existence and morality\, according to Institute president David Herrstrom. Having lived through the Great Depression\, Landau faced tough times and human cruelty\, influences that can be seen throughout his works. Herrstrom explains that “As a humanist\, Landau was committed to the belief that art must do more than entertain or please. Creating inner conflict\, art can precipitate a small crisis of perception or conscience in us and contribute to human growth.” \nDates/Times docents will be in the gallery to give guided tours: \nFri. April 12 | 4 pm – 8 pm\nSat. April 13 | 6 pm – 8 pm\nSun. April 14 | 11 am – 2 pm\nMon. April 15 | 12 pm – 2 pm\nTues. April 16 | 11 am – 12 pm\nWed. April 17 | 11 am – 2 pm\nThurs. April 18 | 4:30 pm – 8 pm\nFri. April 19 | 11 am – 1 pm\, 6 pm – 8 pm\nMon. April 22 | 12 pm – 2pm\nTues. April 23 | 11 am – 4 pm\nWed. April 24 | 11am – 3 pm
URL:https://www.monmouth.edu/events/event/advocacy-revelation-transcendence-jacob-landau/
LOCATION:Pollak Gallery
ATTACH;FMTTYPE=image/jpeg:https://www.monmouth.edu/events/wp-content/uploads/sites/19/2018/07/landau_2013_thumb.jpg
END:VEVENT
BEGIN:VEVENT
DTSTART;VALUE=DATE:20130411
DTEND;VALUE=DATE:20130719
DTSTAMP:20260423T131203
CREATED:20180725T205212Z
LAST-MODIFIED:20190301T183815Z
UID:40810104305-1365638400-1374191999@www.monmouth.edu
SUMMARY:Second Senior Show: Graphic Design
DESCRIPTION:  \nRechnitz Hall\, The Dimattio Gallery\nOpening Reception: Fri. April 11\, from 7 – 9 p.m.\n 
URL:https://www.monmouth.edu/events/event/second-senior-show-graphic-design-2/
LOCATION:Joan and Robert Rechnitz Hall
ATTACH;FMTTYPE=image/jpeg:https://www.monmouth.edu/events/wp-content/uploads/sites/19/2018/07/second_senior_show_thumb.jpg
END:VEVENT
BEGIN:VEVENT
DTSTART;TZID=America/New_York:20130411T143000
DTEND;TZID=America/New_York:20130411T143000
DTSTAMP:20260423T131203
CREATED:20180725T204733Z
LAST-MODIFIED:20180731T133433Z
UID:40810103552-1365690600-1365690600@www.monmouth.edu
SUMMARY:Art Now: Multimedia Art - Matt Kenyon
DESCRIPTION:In 1999 Matt\nco-founded SWAMP (Studies of Work Atmosphere and Mass Production) with\nDouglas Easterly. Their work focuses on critical themes addressing the\naffects of global corporate operations\, mass media and communication\,\nmilitary-industrial complexes\, and general meditations on the liminal\narea between life and artificial life. SWAMP has been making work in\nthis vein since 1999 using a wide range of media\, including custom\nsoftware\, electronics\, mechanical devices\, and often times working with\nliving organisms.
URL:https://www.monmouth.edu/events/event/art-now-multimedia-art-matt-kenyon/
ATTACH;FMTTYPE=image/jpeg:https://www.monmouth.edu/events/wp-content/uploads/sites/19/2018/07/matt_kenyon_thumb.jpg
END:VEVENT
BEGIN:VEVENT
DTSTART;TZID=America/New_York:20130411T153000
DTEND;TZID=America/New_York:20130411T153000
DTSTAMP:20260423T131203
CREATED:20180725T204908Z
LAST-MODIFIED:20180731T133500Z
UID:40810103885-1365694200-1365694200@www.monmouth.edu
SUMMARY:CANCELLED - Step Afrika Workshop
DESCRIPTION:THIS EVENT HAS BEEN CANCELLED \nLearn the ins and outs of “stepping\,” the percussive dance style created\n by African American college students\, with a lesson by dance troupe\nStep Afrika. No experience needed.
URL:https://www.monmouth.edu/events/event/cancelled-step-afrika-workshop/
ATTACH;FMTTYPE=image/jpeg:https://www.monmouth.edu/events/wp-content/uploads/sites/19/2018/07/step_afrika_Thumb.jpg
END:VEVENT
BEGIN:VEVENT
DTSTART;TZID=America/New_York:20130411T193000
DTEND;TZID=America/New_York:20130411T193000
DTSTAMP:20260423T131203
CREATED:20180725T204740Z
LAST-MODIFIED:20181211T142350Z
UID:40810103582-1365708600-1365708600@www.monmouth.edu
SUMMARY:Provost Film Series: Moolaade
DESCRIPTION:Moolaade \nWhen a woman shelters a group of girls from suffering female\ncircumcision\, she starts a conflict that tears her village apart in this\nfilm by Ousmane Sembene.
URL:https://www.monmouth.edu/events/event/provost-film-series-moolaade/
ATTACH;FMTTYPE=image/jpeg:https://www.monmouth.edu/events/wp-content/uploads/sites/19/2018/07/moolaade_thumb.jpg
END:VEVENT
END:VCALENDAR