BEGIN:VCALENDAR
VERSION:2.0
PRODID:-//Events - ECPv6.15.20//NONSGML v1.0//EN
CALSCALE:GREGORIAN
METHOD:PUBLISH
X-WR-CALNAME:Events
X-ORIGINAL-URL:https://www.monmouth.edu/events
X-WR-CALDESC:Events for Events
REFRESH-INTERVAL;VALUE=DURATION:PT1H
X-Robots-Tag:noindex
X-PUBLISHED-TTL:PT1H
BEGIN:VTIMEZONE
TZID:America/New_York
BEGIN:DAYLIGHT
TZOFFSETFROM:-0500
TZOFFSETTO:-0400
TZNAME:EDT
DTSTART:20110313T070000
END:DAYLIGHT
BEGIN:STANDARD
TZOFFSETFROM:-0400
TZOFFSETTO:-0500
TZNAME:EST
DTSTART:20111106T060000
END:STANDARD
BEGIN:DAYLIGHT
TZOFFSETFROM:-0500
TZOFFSETTO:-0400
TZNAME:EDT
DTSTART:20120311T070000
END:DAYLIGHT
BEGIN:STANDARD
TZOFFSETFROM:-0400
TZOFFSETTO:-0500
TZNAME:EST
DTSTART:20121104T060000
END:STANDARD
BEGIN:DAYLIGHT
TZOFFSETFROM:-0500
TZOFFSETTO:-0400
TZNAME:EDT
DTSTART:20130310T070000
END:DAYLIGHT
BEGIN:STANDARD
TZOFFSETFROM:-0400
TZOFFSETTO:-0500
TZNAME:EST
DTSTART:20131103T060000
END:STANDARD
END:VTIMEZONE
BEGIN:VEVENT
DTSTART;VALUE=DATE:20121101
DTEND;VALUE=DATE:20121222
DTSTAMP:20260424T222657
CREATED:20180725T204850Z
LAST-MODIFIED:20190301T194205Z
UID:40810103792-1351728000-1356134399@www.monmouth.edu
SUMMARY:Gallery Exhibition: Historic Wilson Hall
DESCRIPTION:Historic Wilson Hall\nDesignated a Historical Landmark in 1985\nNovember 1 – December 21\, 2012\nPollak Gallery\nFree & Open to Public\nThe splendor of the golden age of American palaces will be featured in  an exhibit of photographs depicting Shadow lawn estate as it appeared from 1903 through 1937. The exhibit features images of the original colonial wood frame structure built in 1903 that was destroyed by fire in 1927\, and the neoclassical French limestone structure that replaced it in 1929. The exhibit includes images of President Woodrow Wilson making his acceptance speech on the steps  of Shadow Lawn\, the opulent décor of the interiors\, and the greenhouses and grounds that supported the estate.\n\nThis exhibition is part of an ongoing historical project that we hope to grow and enhance by learning more through oral histories and individual memories. If you or a family member had a special connection or story to share about Shadow Lawn Mansion or Wilson Hall\, please submit it. We will be collecting this information for use in future research and exhibitions.
URL:https://www.monmouth.edu/events/event/gallery-exhibition-historic-wilson-hall/
LOCATION:Pollak Gallery
ATTACH;FMTTYPE=image/jpeg:https://www.monmouth.edu/events/wp-content/uploads/sites/19/2018/07/wilson_thumb.jpg
END:VEVENT
BEGIN:VEVENT
DTSTART;TZID=America/New_York:20121116T200000
DTEND;TZID=America/New_York:20121201T200000
DTSTAMP:20260424T222657
CREATED:20180725T204859Z
LAST-MODIFIED:20180725T204859Z
UID:40810103846-1353096000-1354392000@www.monmouth.edu
SUMMARY:The Foreigner
DESCRIPTION:The Foreigner by Larry Shue \n**Please take note of the new dates: \nNovember 16-19 & 29- December 1\, 2012 | 8:00 p.m. \nNovember 18\, 2012 | 3:00 p.m. \nLauren K. Woods Theatre \nDirected by John J. Burke \nWinner of 2 Obie (Off-Broadway) awards and two Outer Critics Circle awards as Best New American Play and Best Off-Broadway production\, The Foreigner is an inspired comic romp. Set in rural Georgia\, this comedy investigates what can happen when a group of people encounter a stranger who (they think) neither speaks nor reads English.  That he does fuels the nonstop hilarity of the play and sets up the wildly funny climax in which things go uproariously awry for the “bad guys” and the “good guys” emerge triumphant. \n“I laughed from start to finish…” The New Yorker \n“A constant invitation to relax and laugh at the foolishness of life…” The Village Voice \n“Shue’s comedy is positively antic…” The Bergen Record
URL:https://www.monmouth.edu/events/event/the-foreigner/
LOCATION:Lauren K. Woods Theatre
ATTACH;FMTTYPE=image/jpeg:https://www.monmouth.edu/events/wp-content/uploads/sites/19/2018/07/Foreigner_Thumb.jpg
END:VEVENT
BEGIN:VEVENT
DTSTART;TZID=America/New_York:20121117T090000
DTEND;TZID=America/New_York:20121117T170000
DTSTAMP:20260424T222657
CREATED:20180725T204811Z
LAST-MODIFIED:20190304T154206Z
UID:40810103711-1353142800-1353171600@www.monmouth.edu
SUMMARY:Fall Poetry Festival
DESCRIPTION:The day will consist of readings by nationally known poets\, some of whom will conduct poetry workshops for participants. The keynote readers will be Pulitzer Prize winner Stephen Dunn and Cave Canem Fellow Rachel Eliza Griffiths. \nStephen Dunn was awarded the Pulitzer Prize in Poetry for Different Hours. His many other books include New and Selected Poems\, 1974-1994\, What Goes On: Selected and New Poems 1995-2009\, and\, most recently\, Here and Now. \nRachel Eliza Griffiths is the author of Miracle Arrhythmia\, The Requited Distance\, and\, most recently\, Mule & Pear. A photographer and painter as well as a poet\, she teaches at Sarah Lawrence College. \nIn addition\, a dozen nationally known local poets will give brief readings: Gabe Barabas\, Michael Broek\, Prescott Evarts\, Laura McCullough\, Yesenia Montilla\, Mihaela Moscaliuc\, Suzanne Parker\, Lauren Schmidt\, Michael Paul Thomas\, Michael Waters\, BJ Ward\, and Daniel Weeks. The festival will culminate with a reading by registered participants. \nAdmission to the readings is free and open to the public.  \nThe workshops\, also free\, will be open to registrants only. To register\, e-mail Dr. Michael Waters no later than Wednesday\, November 7\, at mgwaters@monmouth.edu. \nPlease see the schedule below for reading and workshop times. This event is co-sponsored by the Long Branch Arts Council\, the Wayne D. McMurray School of Humanities and Social Sciences at Monmouth University\, the Department of English at Monmouth University\, and The Monmouth Review. \n=============== \n9-10 a.m.\nSign-in for registrants in Bey Hall (refreshments).\nThe Monmouth Review distributed to participants. \n10-11 a.m.: Reading:\nLaura McCullough / BCC\nMichael Broek / BCC\nSuzanne Parker / BCC\nGabe Barabas / NJ Repertory Company\nLauren Schmidt / MU\nBJ Ward / Warren CC \n11 a.m. -12 p.m.: Workshops \n12-1 p.m.: Lunch for registrants \n1-2 p.m.: Reading: \nMichael Paul Thomas / MU\nPrescott Evarts Jr. / MU\nMihaela Moscaliuc / MU\nDan Weeks / MU\nYesenia Montilla / NYC\nMichael Waters / MU \n2-3 p.m.: Workshops \n3-4 p.m.: Reading: \nRachel Eliza Griffiths\nStephen Dunn \n4-5 p.m.: Participants’ reading
URL:https://www.monmouth.edu/events/event/fall-poetry-festival-3/
LOCATION:Bey Hall
ATTACH;FMTTYPE=image/jpeg:https://www.monmouth.edu/events/wp-content/uploads/sites/19/2018/07/poetryfest_thumb.jpg
END:VEVENT
END:VCALENDAR