BEGIN:VCALENDAR
VERSION:2.0
PRODID:-//Events - ECPv6.15.20//NONSGML v1.0//EN
CALSCALE:GREGORIAN
METHOD:PUBLISH
X-ORIGINAL-URL:https://www.monmouth.edu/events
X-WR-CALDESC:Events for Events
REFRESH-INTERVAL;VALUE=DURATION:PT1H
X-Robots-Tag:noindex
X-PUBLISHED-TTL:PT1H
BEGIN:VTIMEZONE
TZID:America/New_York
BEGIN:DAYLIGHT
TZOFFSETFROM:-0500
TZOFFSETTO:-0400
TZNAME:EDT
DTSTART:20110313T070000
END:DAYLIGHT
BEGIN:STANDARD
TZOFFSETFROM:-0400
TZOFFSETTO:-0500
TZNAME:EST
DTSTART:20111106T060000
END:STANDARD
BEGIN:DAYLIGHT
TZOFFSETFROM:-0500
TZOFFSETTO:-0400
TZNAME:EDT
DTSTART:20120311T070000
END:DAYLIGHT
BEGIN:STANDARD
TZOFFSETFROM:-0400
TZOFFSETTO:-0500
TZNAME:EST
DTSTART:20121104T060000
END:STANDARD
BEGIN:DAYLIGHT
TZOFFSETFROM:-0500
TZOFFSETTO:-0400
TZNAME:EDT
DTSTART:20130310T070000
END:DAYLIGHT
BEGIN:STANDARD
TZOFFSETFROM:-0400
TZOFFSETTO:-0500
TZNAME:EST
DTSTART:20131103T060000
END:STANDARD
END:VTIMEZONE
BEGIN:VEVENT
DTSTART;VALUE=DATE:20120910
DTEND;VALUE=DATE:20121117
DTSTAMP:20260424T152117
CREATED:20180725T204850Z
LAST-MODIFIED:20190228T144522Z
UID:40810103789-1347235200-1353110399@www.monmouth.edu
SUMMARY:Steven Brower - Influence\, Parody\, and Process
DESCRIPTION:September 10 – November 16\, 2012\nIce House Gallery \nArtist Lecture:  \nThurs. September 13 | 4:30 p.m.\nWilson Hall Auditorium\nOpening Reception in Gallery: \nThurs. September 13 | 5:30 – 7 p.m.\nFree and Open to the Public \nDesigner Steven Brower explores his origins and how he filters early and later influences through his own personal sensibility. Not limited to visual art\, graphic design or illustrations those influences include Groucho Marx\, Woody Guthrie\, Louis Armstrong\, right along side PushPin Studios\, Mad Magazine\, and Jack Kirby.
URL:https://www.monmouth.edu/events/event/steven-brower-influence-parody-and-process/
LOCATION:Rotary Ice House Gallery
ATTACH;FMTTYPE=image/jpeg:https://www.monmouth.edu/events/wp-content/uploads/sites/19/2018/07/brower_thumb.jpg
END:VEVENT
END:VCALENDAR