BEGIN:VCALENDAR
VERSION:2.0
PRODID:-//Events - ECPv6.15.20//NONSGML v1.0//EN
CALSCALE:GREGORIAN
METHOD:PUBLISH
X-ORIGINAL-URL:https://www.monmouth.edu/events
X-WR-CALDESC:Events for Events
REFRESH-INTERVAL;VALUE=DURATION:PT1H
X-Robots-Tag:noindex
X-PUBLISHED-TTL:PT1H
BEGIN:VTIMEZONE
TZID:America/New_York
BEGIN:DAYLIGHT
TZOFFSETFROM:-0500
TZOFFSETTO:-0400
TZNAME:EDT
DTSTART:20110313T070000
END:DAYLIGHT
BEGIN:STANDARD
TZOFFSETFROM:-0400
TZOFFSETTO:-0500
TZNAME:EST
DTSTART:20111106T060000
END:STANDARD
BEGIN:DAYLIGHT
TZOFFSETFROM:-0500
TZOFFSETTO:-0400
TZNAME:EDT
DTSTART:20120311T070000
END:DAYLIGHT
BEGIN:STANDARD
TZOFFSETFROM:-0400
TZOFFSETTO:-0500
TZNAME:EST
DTSTART:20121104T060000
END:STANDARD
BEGIN:DAYLIGHT
TZOFFSETFROM:-0500
TZOFFSETTO:-0400
TZNAME:EDT
DTSTART:20130310T070000
END:DAYLIGHT
BEGIN:STANDARD
TZOFFSETFROM:-0400
TZOFFSETTO:-0500
TZNAME:EST
DTSTART:20131103T060000
END:STANDARD
END:VTIMEZONE
BEGIN:VEVENT
DTSTART;TZID=America/New_York:20120509T183000
DTEND;TZID=America/New_York:20120509T183000
DTSTAMP:20260421T232647
CREATED:20180725T205100Z
LAST-MODIFIED:20181221T153834Z
UID:40810104113-1336588200-1336588200@www.monmouth.edu
SUMMARY:Met Opera: Ring Cycle - Das Rheingold
DESCRIPTION:To purchase a discounted subscription package to all five Ring Cycle broadcasts for $80 please call the box office at 732.263.6889. \nConceived by Wagner as a prologue to the “Ring” Cycle\, Das Rheingold sets forth the dramatic issues that play out in the three subsequent operas. Gold from the depths of the Rhine River is stolen by the dwarf Alberich\, who uses it to forge a ring that will give him unlimited power. The theft sets in motion a course of events that will eventually alter the order of the universe. Bryn Terfel as Wotan\, lord of the gods\, heads the cast. \nConductor: James Levine \nCast: Wendy Bryn Harmer\, Stephanie Blythe\, Patricia Bardon; Richard Croft\, Gerhard Siegel\, Bryn Terfel\, Eric Owens\, Franz-Josef Selig\, Hans-Peter König \nOriginal Live in HD transmission: October 9\, 2010 \nFor more information visit The Metropolitan Opera online.
URL:https://www.monmouth.edu/events/event/met-opera-ring-cycle-das-rheingold/
ATTACH;FMTTYPE=image/jpeg:https://www.monmouth.edu/events/wp-content/uploads/sites/19/2018/07/Das_Rheingold_thumb.jpg
END:VEVENT
END:VCALENDAR