BEGIN:VCALENDAR
VERSION:2.0
PRODID:-//Events - ECPv6.15.20//NONSGML v1.0//EN
CALSCALE:GREGORIAN
METHOD:PUBLISH
X-WR-CALNAME:Events
X-ORIGINAL-URL:https://www.monmouth.edu/events
X-WR-CALDESC:Events for Events
REFRESH-INTERVAL;VALUE=DURATION:PT1H
X-Robots-Tag:noindex
X-PUBLISHED-TTL:PT1H
BEGIN:VTIMEZONE
TZID:America/New_York
BEGIN:DAYLIGHT
TZOFFSETFROM:-0500
TZOFFSETTO:-0400
TZNAME:EDT
DTSTART:20110313T070000
END:DAYLIGHT
BEGIN:STANDARD
TZOFFSETFROM:-0400
TZOFFSETTO:-0500
TZNAME:EST
DTSTART:20111106T060000
END:STANDARD
BEGIN:DAYLIGHT
TZOFFSETFROM:-0500
TZOFFSETTO:-0400
TZNAME:EDT
DTSTART:20120311T070000
END:DAYLIGHT
BEGIN:STANDARD
TZOFFSETFROM:-0400
TZOFFSETTO:-0500
TZNAME:EST
DTSTART:20121104T060000
END:STANDARD
BEGIN:DAYLIGHT
TZOFFSETFROM:-0500
TZOFFSETTO:-0400
TZNAME:EDT
DTSTART:20130310T070000
END:DAYLIGHT
BEGIN:STANDARD
TZOFFSETFROM:-0400
TZOFFSETTO:-0500
TZNAME:EST
DTSTART:20131103T060000
END:STANDARD
END:VTIMEZONE
BEGIN:VEVENT
DTSTART;TZID=America/New_York:20120421T200000
DTEND;TZID=America/New_York:20120421T200000
DTSTAMP:20260423T003425
CREATED:20180725T204938Z
LAST-MODIFIED:20180731T133506Z
UID:40810103936-1335038400-1335038400@www.monmouth.edu
SUMMARY:Adam Pascal & Anthony Rapp: Original Stars of Broadway's RENT
DESCRIPTION:Adam & Anthony from Broadway’s Rent \nCost: $47/37 \nThis show will feature the two Rent stars performing singly and together. Rapp will specifically perform pop standards\, as well as original material. Pascal will offer a segment titled Me and Larry\, featuring musical director Larry Edoff that will include numbers from Cabaret and Chess\, as well as new arrangements of “Maria\,” “Not a Day Goes By\,” and “What I Did for Love\,” among others. In addition the two will share stories about working on Rent and perform selections from Jonathan Larson’s multi-award-winning show.
URL:https://www.monmouth.edu/events/event/adam-pascal-anthony-rapp-original-stars-of-broadways-rent/
ATTACH;FMTTYPE=image/jpeg:https://www.monmouth.edu/events/wp-content/uploads/sites/19/2018/07/RENT_Thumb.jpg
END:VEVENT
END:VCALENDAR