BEGIN:VCALENDAR
VERSION:2.0
PRODID:-//Events - ECPv6.15.20//NONSGML v1.0//EN
CALSCALE:GREGORIAN
METHOD:PUBLISH
X-ORIGINAL-URL:https://www.monmouth.edu/events
X-WR-CALDESC:Events for Events
REFRESH-INTERVAL;VALUE=DURATION:PT1H
X-Robots-Tag:noindex
X-PUBLISHED-TTL:PT1H
BEGIN:VTIMEZONE
TZID:America/New_York
BEGIN:DAYLIGHT
TZOFFSETFROM:-0500
TZOFFSETTO:-0400
TZNAME:EDT
DTSTART:20110313T070000
END:DAYLIGHT
BEGIN:STANDARD
TZOFFSETFROM:-0400
TZOFFSETTO:-0500
TZNAME:EST
DTSTART:20111106T060000
END:STANDARD
BEGIN:DAYLIGHT
TZOFFSETFROM:-0500
TZOFFSETTO:-0400
TZNAME:EDT
DTSTART:20120311T070000
END:DAYLIGHT
BEGIN:STANDARD
TZOFFSETFROM:-0400
TZOFFSETTO:-0500
TZNAME:EST
DTSTART:20121104T060000
END:STANDARD
BEGIN:DAYLIGHT
TZOFFSETFROM:-0500
TZOFFSETTO:-0400
TZNAME:EDT
DTSTART:20130310T070000
END:DAYLIGHT
BEGIN:STANDARD
TZOFFSETFROM:-0400
TZOFFSETTO:-0500
TZNAME:EST
DTSTART:20131103T060000
END:STANDARD
END:VTIMEZONE
BEGIN:VEVENT
DTSTART;VALUE=DATE:20120405
DTEND;VALUE=DATE:20120420
DTSTAMP:20260424T072224
CREATED:20180725T204851Z
LAST-MODIFIED:20190304T153108Z
UID:40810103795-1333584000-1334879999@www.monmouth.edu
SUMMARY:Jacob Landau: An Exhibit of Selected Works
DESCRIPTION:MONMOUTH UNIVERSITY PRESENTS: \nAdvocacy of the Human: An Exhibit of Selected Works\n  \nBy Jacob Landau\n  \nThis exhibit is a selection from Monmouth University’s extensive collection of Jacob Landau’s work. Each line of these images reveal an aspect of our humanity and affirms our inviolable individuality. He places the human at the center of our world because it is the individual who suffers and\, at the same time\, who envisions a world without suffering\, so that it can be created. And in this act every human is an artist. \nAt the Monmouth University Library\n  \nSeminar Rooms 102 & 104\n  \nApril 5-19\, 2012\n  \nOpen to public & docent tours available. \nConsult library website for times https://library.monmouth.edu/
URL:https://www.monmouth.edu/events/event/jacob-landau-an-exhibit-of-selected-works/
LOCATION:Monmouth University Library
ATTACH;FMTTYPE=image/jpeg:https://www.monmouth.edu/events/wp-content/uploads/sites/19/2018/07/landau_thumb.jpg
END:VEVENT
BEGIN:VEVENT
DTSTART;TZID=America/New_York:20120413T200000
DTEND;TZID=America/New_York:20120413T200000
DTSTAMP:20260424T072224
CREATED:20180725T204940Z
LAST-MODIFIED:20180731T133507Z
UID:40810103945-1334347200-1334347200@www.monmouth.edu
SUMMARY:Marc Muller's Dead On: Live
DESCRIPTION:Dead On – Live! \nA Note-For-Note Re-creation of The Grateful Dead’sAmerican Beauty & Workingman’s Dead \n Cost: $40/30 \nFaithful note-for-note re-creations of The Grateful Dead’s 1970Workingman’s Dead and American Beauty albums\, which include such favorites as “Uncle John’s Band\,” “Casey Jones\,” “Truckin’\,” and “Sugar Magnolia.” Multi instrumentalist Marc Muller directs a Note For Note celebration capturing this important and beloved period in the Grateful Dead’s long\, illustrious\, and stylistically diverse career. He has assembled an impressive cast of world class musicians who have been able to reproduce virtually every note of every instrument\, as well as all of the beautifully orchestrated vocal arrangements that are a trademark of these 2 American classics\, to a level that’s perhaps never been accomplished and performed live in concert before. For more information visit: www.deadonlive.com
URL:https://www.monmouth.edu/events/event/marc-mullers-dead-on-live/
ATTACH;FMTTYPE=image/jpeg:https://www.monmouth.edu/events/wp-content/uploads/sites/19/2018/07/Dead_On_Thumbnail.jpg
END:VEVENT
END:VCALENDAR