BEGIN:VCALENDAR
VERSION:2.0
PRODID:-//Events - ECPv6.15.20//NONSGML v1.0//EN
CALSCALE:GREGORIAN
METHOD:PUBLISH
X-WR-CALNAME:Events
X-ORIGINAL-URL:https://www.monmouth.edu/events
X-WR-CALDESC:Events for Events
REFRESH-INTERVAL;VALUE=DURATION:PT1H
X-Robots-Tag:noindex
X-PUBLISHED-TTL:PT1H
BEGIN:VTIMEZONE
TZID:America/New_York
BEGIN:DAYLIGHT
TZOFFSETFROM:-0500
TZOFFSETTO:-0400
TZNAME:EDT
DTSTART:20110313T070000
END:DAYLIGHT
BEGIN:STANDARD
TZOFFSETFROM:-0400
TZOFFSETTO:-0500
TZNAME:EST
DTSTART:20111106T060000
END:STANDARD
BEGIN:DAYLIGHT
TZOFFSETFROM:-0500
TZOFFSETTO:-0400
TZNAME:EDT
DTSTART:20120311T070000
END:DAYLIGHT
BEGIN:STANDARD
TZOFFSETFROM:-0400
TZOFFSETTO:-0500
TZNAME:EST
DTSTART:20121104T060000
END:STANDARD
BEGIN:DAYLIGHT
TZOFFSETFROM:-0500
TZOFFSETTO:-0400
TZNAME:EDT
DTSTART:20130310T070000
END:DAYLIGHT
BEGIN:STANDARD
TZOFFSETFROM:-0400
TZOFFSETTO:-0500
TZNAME:EST
DTSTART:20131103T060000
END:STANDARD
END:VTIMEZONE
BEGIN:VEVENT
DTSTART;TZID=America/New_York:20120328T200000
DTEND;TZID=America/New_York:20120405T200000
DTSTAMP:20260422T015331
CREATED:20180725T204901Z
LAST-MODIFIED:20190219T173639Z
UID:40810103855-1332964800-1333656000@www.monmouth.edu
SUMMARY:Spring Musical: Working
DESCRIPTION:The Department of Music and Theatre Arts presents \nSpring Musical: Working \nMonmouth University’s Department of Music & Theatre\nwill present the first East Coast production of the newly revised\nmusical\, Working\, based on the book by Pulitzer-Prize winning author Studs Terkel. Adapted by Stephen Schwartz (Wicked\, Pippin\, and Godspell) from his original version with Nino Faso\, the new Working recently completed a run in Chicago. Monmouth’s production will be the first by any university in the country. \nDirected by Nicole Ricciardi\, Working\nis the working man’s A Chorus Line. A musical exploration of twenty-six\npeople from all walks of life\, with songs by all-star composers Craig\nCarnelia (Sweet Smell of Success)\, Micki Grant (Don’t Bother Me\, I Can’t Cope)\, Tony Award-winning Lin-Manuel Miranda (In the Heights)\, Mary Rodgers (Once Upon A Mattress)\, Susan Birkenhead (Jelly’s Last Jam)\, Stephen Schwartz\, and Grammy Award-winning singer-songwriter\, James Taylor. The musical director is George Wurzbach. \nWorking celebrates\neveryday people in a genuinely funny and touching way\, and has been\ncalled “the perfect musical for everyone who has ever worked a day in\ntheir lives.” Updated to fit 21st century audiences\, cast members sing\nand dance with cell phones and laptops as they tell the tales of\ntraditional careers: teacher\, waitress\, firefighter; and more modern\nadditions: hedge fund manager\, UPS delivery man\, and a customer service\nrepresentative in India.
URL:https://www.monmouth.edu/events/event/spring-musical-working/
LOCATION:Lauren K. Woods Theatre
ATTACH;FMTTYPE=image/jpeg:https://www.monmouth.edu/events/wp-content/uploads/sites/19/2018/07/Working_Thumb.jpg
END:VEVENT
BEGIN:VEVENT
DTSTART;VALUE=DATE:20120330
DTEND;VALUE=DATE:20120407
DTSTAMP:20260422T015331
CREATED:20180725T204852Z
LAST-MODIFIED:20190301T194331Z
UID:40810103804-1333065600-1333756799@www.monmouth.edu
SUMMARY:First Senior Exhibition (Fine Art)
DESCRIPTION:First Senior Exhibition (Fine Art)  \nMarch 30 – April 6\, 2012 \nOpening Reception:  \nFriday\, March 30\, 7 – 9 p.m. \nICE HOUSE & POLLAK GALLERIES  \nFeaturing the work of the Monmouth University graduating seniors who will receive their degrees in fine art and/or art education.
URL:https://www.monmouth.edu/events/event/first-senior-exhibition-fine-art/
LOCATION:Pollak Gallery
ATTACH;FMTTYPE=image/jpeg:https://www.monmouth.edu/events/wp-content/uploads/sites/19/2018/07/fine_art_seniorshow_Thumb.jpg
END:VEVENT
BEGIN:VEVENT
DTSTART;TZID=America/New_York:20120330T193000
DTEND;TZID=America/New_York:20120330T193000
DTSTAMP:20260422T015331
CREATED:20180725T204944Z
LAST-MODIFIED:20220419T132746Z
UID:40810103954-1333135800-1333135800@www.monmouth.edu
SUMMARY:Jazz and Poetry with Robert Pinsky
DESCRIPTION:Jazz and Poetry with Robert Pinsky\n accompanied by Ben Allison\nCost: $10; $20 \nRobert Pinsky\, three-time U.S. poet laureate and author of several acclaimed books of poetry\, prose\, and translation will bring his verse to life on the Pollak Theatre stage in a reading with musical accompaniment. Elegant and tough\, vividly imaginative\, Pinsky’s poems have earned praise for their wild musical energy and ambitious range. \nThe Long Branch native whose first ambition was to be a jazz musician\, told The Paris Review “in jazz\, as in poetry\, there is always that play between what’s regular and what’s wild. That has always appealed to me.” During these performances Pinsky explains\, “The musicians have read the poems beforehand\, and we discuss appropriate music a bit\, but what we do is at the heart of it improvised.” \nPinsky will be accompanied by celebrated bassist/composer Ben Allison who was called “one of today’s best young jazz musicians” by the Boston Globe and a “visionary composer\, adventurous improviser\, and strong organizational force on the New York City jazz scene” by JazzTimes.
URL:https://www.monmouth.edu/events/event/jazz-and-poetry-with-robert-pinsky/
ATTACH;FMTTYPE=image/jpeg:https://www.monmouth.edu/events/wp-content/uploads/sites/19/2018/07/Robert_Pinsky_Thumb.jpg
END:VEVENT
END:VCALENDAR