BEGIN:VCALENDAR
VERSION:2.0
PRODID:-//Events - ECPv6.15.20//NONSGML v1.0//EN
CALSCALE:GREGORIAN
METHOD:PUBLISH
X-ORIGINAL-URL:https://www.monmouth.edu/events
X-WR-CALDESC:Events for Events
REFRESH-INTERVAL;VALUE=DURATION:PT1H
X-Robots-Tag:noindex
X-PUBLISHED-TTL:PT1H
BEGIN:VTIMEZONE
TZID:America/New_York
BEGIN:DAYLIGHT
TZOFFSETFROM:-0500
TZOFFSETTO:-0400
TZNAME:EDT
DTSTART:20110313T070000
END:DAYLIGHT
BEGIN:STANDARD
TZOFFSETFROM:-0400
TZOFFSETTO:-0500
TZNAME:EST
DTSTART:20111106T060000
END:STANDARD
BEGIN:DAYLIGHT
TZOFFSETFROM:-0500
TZOFFSETTO:-0400
TZNAME:EDT
DTSTART:20120311T070000
END:DAYLIGHT
BEGIN:STANDARD
TZOFFSETFROM:-0400
TZOFFSETTO:-0500
TZNAME:EST
DTSTART:20121104T060000
END:STANDARD
BEGIN:DAYLIGHT
TZOFFSETFROM:-0500
TZOFFSETTO:-0400
TZNAME:EDT
DTSTART:20130310T070000
END:DAYLIGHT
BEGIN:STANDARD
TZOFFSETFROM:-0400
TZOFFSETTO:-0500
TZNAME:EST
DTSTART:20131103T060000
END:STANDARD
END:VTIMEZONE
BEGIN:VEVENT
DTSTART;TZID=America/New_York:20120322T163000
DTEND;TZID=America/New_York:20120322T163000
DTSTAMP:20260422T051323
CREATED:20180725T204814Z
LAST-MODIFIED:20180731T133451Z
UID:40810103723-1332433800-1332433800@www.monmouth.edu
SUMMARY:Natasha Trethewey
DESCRIPTION:Natasha Trethewey is author of Beyond Katrina: A Meditation on the Mississippi Gulf Coast (University of Georgia Press); Native Guard (Houghton Mifflin)\, for which she won the 2007 Pulitzer Prize; Bellocq’s Ophelia (Graywolf\, 2002)\, which was named a Notable Book for 2003 by the American Library Association; and Domestic Work (Graywolf\, 2000). Her collection Thrall is due for publication in 2012. She is the recipient of fellowships from the Guggenheim Foundation\, the National Endowment for the Arts\, and the Bunting Fellowship Program of the Radcliffe Institute for Advanced Study at Harvard. Her poems have appeared in such journals and anthologies as American Poetry Review\, Callaloo\, Kenyon Review\, The Southern Review\, New England Review\, Gettysburg Review\, and several volumes of The Best American Poetry. Her first collection of poetry\, Domestic Work (2000)\, was selected by Rita Dove as the winner of the inaugural Cave Canem Poetry Prize for the best first book by an African American poet and won both the 2001 Mississippi Institute of Arts and Letters Book Prize and the 2001 Lillian Smith Award for Poetry.
URL:https://www.monmouth.edu/events/event/natasha-trethewey/
ATTACH;FMTTYPE=image/jpeg:https://www.monmouth.edu/events/wp-content/uploads/sites/19/2018/07/natasha_trethewey_thumb.jpg
END:VEVENT
END:VCALENDAR