BEGIN:VCALENDAR
VERSION:2.0
PRODID:-//Events - ECPv6.15.20//NONSGML v1.0//EN
CALSCALE:GREGORIAN
METHOD:PUBLISH
X-ORIGINAL-URL:https://www.monmouth.edu/events
X-WR-CALDESC:Events for Events
REFRESH-INTERVAL;VALUE=DURATION:PT1H
X-Robots-Tag:noindex
X-PUBLISHED-TTL:PT1H
BEGIN:VTIMEZONE
TZID:America/New_York
BEGIN:DAYLIGHT
TZOFFSETFROM:-0500
TZOFFSETTO:-0400
TZNAME:EDT
DTSTART:20110313T070000
END:DAYLIGHT
BEGIN:STANDARD
TZOFFSETFROM:-0400
TZOFFSETTO:-0500
TZNAME:EST
DTSTART:20111106T060000
END:STANDARD
BEGIN:DAYLIGHT
TZOFFSETFROM:-0500
TZOFFSETTO:-0400
TZNAME:EDT
DTSTART:20120311T070000
END:DAYLIGHT
BEGIN:STANDARD
TZOFFSETFROM:-0400
TZOFFSETTO:-0500
TZNAME:EST
DTSTART:20121104T060000
END:STANDARD
BEGIN:DAYLIGHT
TZOFFSETFROM:-0500
TZOFFSETTO:-0400
TZNAME:EDT
DTSTART:20130310T070000
END:DAYLIGHT
BEGIN:STANDARD
TZOFFSETFROM:-0400
TZOFFSETTO:-0500
TZNAME:EST
DTSTART:20131103T060000
END:STANDARD
END:VTIMEZONE
BEGIN:VEVENT
DTSTART;TZID=America/New_York:20120321T193000
DTEND;TZID=America/New_York:20120321T193000
DTSTAMP:20260422T051329
CREATED:20180725T204743Z
LAST-MODIFIED:20180731T133437Z
UID:40810103594-1332358200-1332358200@www.monmouth.edu
SUMMARY:Provost Film Series: Rachida
DESCRIPTION:RACHIDA (Not Rated) \nA look at terrorism in Algeria in the 1990s through the eyes of Rachida\,\n a teacher in one of the school districts. The film digs into the life\nof a woman in the Sunni Muslim patriarchal culture and the day-to-day\nliving with anxiety and fear as bands of guerrilla thugs roam the\nstreets. Panelists: Dr. Nancy Mezey\, director\, Institute for Global\nUnderstanding and Dr. Saliba Sarsar\, professor of political science\,\nMonmouth University
URL:https://www.monmouth.edu/events/event/provost-film-series-rachida/
ATTACH;FMTTYPE=image/jpeg:https://www.monmouth.edu/events/wp-content/uploads/sites/19/2018/07/rachida_thumbnail.jpg
END:VEVENT
END:VCALENDAR