BEGIN:VCALENDAR
VERSION:2.0
PRODID:-//Events - ECPv6.15.20//NONSGML v1.0//EN
CALSCALE:GREGORIAN
METHOD:PUBLISH
X-WR-CALNAME:Events
X-ORIGINAL-URL:https://www.monmouth.edu/events
X-WR-CALDESC:Events for Events
REFRESH-INTERVAL;VALUE=DURATION:PT1H
X-Robots-Tag:noindex
X-PUBLISHED-TTL:PT1H
BEGIN:VTIMEZONE
TZID:America/New_York
BEGIN:DAYLIGHT
TZOFFSETFROM:-0500
TZOFFSETTO:-0400
TZNAME:EDT
DTSTART:20100314T070000
END:DAYLIGHT
BEGIN:STANDARD
TZOFFSETFROM:-0400
TZOFFSETTO:-0500
TZNAME:EST
DTSTART:20101107T060000
END:STANDARD
BEGIN:DAYLIGHT
TZOFFSETFROM:-0500
TZOFFSETTO:-0400
TZNAME:EDT
DTSTART:20110313T070000
END:DAYLIGHT
BEGIN:STANDARD
TZOFFSETFROM:-0400
TZOFFSETTO:-0500
TZNAME:EST
DTSTART:20111106T060000
END:STANDARD
BEGIN:DAYLIGHT
TZOFFSETFROM:-0500
TZOFFSETTO:-0400
TZNAME:EDT
DTSTART:20120311T070000
END:DAYLIGHT
BEGIN:STANDARD
TZOFFSETFROM:-0400
TZOFFSETTO:-0500
TZNAME:EST
DTSTART:20121104T060000
END:STANDARD
END:VTIMEZONE
BEGIN:VEVENT
DTSTART;VALUE=DATE:20111025
DTEND;VALUE=DATE:20111124
DTSTAMP:20260424T045004
CREATED:20180725T204853Z
LAST-MODIFIED:20220509T192234Z
UID:40810103807-1319500800-1322092799@www.monmouth.edu
SUMMARY:Puzzle Project
DESCRIPTION:Puzzle Project \nOctober 25 – November 23\, 2011\nPuzzle Pieces are $10 each \nPollak Gallery \nWe invite you to be part of the Monmouth University Puzzle Project\, a collaborative group art exhibition. Participants purchase a 24″ x 24″ universal puzzle piece and then turn it into a unique work of art. When the piece is complete it is inserted into the puzzle\, which will continue to grow over time on the walls of the Pollak Gallery. The University’s puzzle will eventually be added to over 5\,000 other pieces for an exhibition in New York City. This project is co-sponsored by the Student Activities Board and the Center for the Arts. \nThe Puzzle Installation & Collaborative Project is a growing & traveling\, group art exhibition. It was initially sponsored by the Monmouth County Arts Council and was created and developed by the artists Tim Kelly & Sandy Taylor (MCAC) and Marie Maber (Brookdale Community College) for the 2009 Teen Arts Festival at Brookdale. Click here for more information about the project. \nTo purchase a puzzle piece please come to the Pollak Theatre Box Office or email at SAB@monmouth.edu. \n*All proceeds from the Monmouth University Puzzle Project go to Autism Awareness* \nUse this link for updates on the puzzle project.
URL:https://www.monmouth.edu/events/event/puzzle-project/
LOCATION:Pollak Gallery
ATTACH;FMTTYPE=image/jpeg:https://www.monmouth.edu/events/wp-content/uploads/sites/19/2018/07/puzzle-project_thumb.jpg
END:VEVENT
BEGIN:VEVENT
DTSTART;TZID=America/New_York:20111112T200000
DTEND;TZID=America/New_York:20111112T200000
DTSTAMP:20260424T045004
CREATED:20180725T204954Z
LAST-MODIFIED:20190102T162149Z
UID:40810103996-1321128000-1321128000@www.monmouth.edu
SUMMARY:CANCELLED: The Miles Davis Experience: 1949 - 1959
DESCRIPTION:CANCELLED \nCost: $42/32 \nThe Miles Davis Experience: 1949-1959 recaptures the sound\, and the historical and cultural context of this critical period of American history through the lens of jazz music and its most iconic innovator\, Miles Davis. The tour will provide a good opportunity to reintroduce Miles to a younger audience and those unfamiliar with his legacy. It will also give the large base of his fans a chance to experience and celebrate his music in a new live setting
URL:https://www.monmouth.edu/events/event/cancelled-the-miles-davis-experience-1949-1959/
ATTACH;FMTTYPE=image/jpeg:https://www.monmouth.edu/events/wp-content/uploads/sites/19/2018/07/Miles_Davis_Experience_Thumb.jpg
END:VEVENT
END:VCALENDAR