BEGIN:VCALENDAR
VERSION:2.0
PRODID:-//Events - ECPv6.15.20//NONSGML v1.0//EN
CALSCALE:GREGORIAN
METHOD:PUBLISH
X-WR-CALNAME:Events
X-ORIGINAL-URL:https://www.monmouth.edu/events
X-WR-CALDESC:Events for Events
REFRESH-INTERVAL;VALUE=DURATION:PT1H
X-Robots-Tag:noindex
X-PUBLISHED-TTL:PT1H
BEGIN:VTIMEZONE
TZID:America/New_York
BEGIN:DAYLIGHT
TZOFFSETFROM:-0500
TZOFFSETTO:-0400
TZNAME:EDT
DTSTART:20100314T070000
END:DAYLIGHT
BEGIN:STANDARD
TZOFFSETFROM:-0400
TZOFFSETTO:-0500
TZNAME:EST
DTSTART:20101107T060000
END:STANDARD
BEGIN:DAYLIGHT
TZOFFSETFROM:-0500
TZOFFSETTO:-0400
TZNAME:EDT
DTSTART:20110313T070000
END:DAYLIGHT
BEGIN:STANDARD
TZOFFSETFROM:-0400
TZOFFSETTO:-0500
TZNAME:EST
DTSTART:20111106T060000
END:STANDARD
BEGIN:DAYLIGHT
TZOFFSETFROM:-0500
TZOFFSETTO:-0400
TZNAME:EDT
DTSTART:20120311T070000
END:DAYLIGHT
BEGIN:STANDARD
TZOFFSETFROM:-0400
TZOFFSETTO:-0500
TZNAME:EST
DTSTART:20121104T060000
END:STANDARD
END:VTIMEZONE
BEGIN:VEVENT
DTSTART;TZID=America/New_York:20110207T190000
DTEND;TZID=America/New_York:20110207T190000
DTSTAMP:20260424T175320
CREATED:20180725T204738Z
LAST-MODIFIED:20220420T152459Z
UID:40810103567-1297105200-1297105200@www.monmouth.edu
SUMMARY:Shadow Puppies
DESCRIPTION:SHADOW PUPPIES \nDESCRIPTION OF WORK: Shadow Puppies is an internationally celebrated cutting edge trio that conjures rich\, complex\, and entrancing worlds of electronic sound and vision in real-time. Using electric guitars\, an\narsenal of objects\, electronics\, homebrew computer software\, and original digital technologies\, audiences experience an uninterrupted journey through sonic eruptions\, video hallucinations\, and aggressive\, entrancing mediascapes. \nARTIST BIOS: \nKurt Ralske’s work has been exhibited internationally\, including at the 2009 Venice Biennale\, the Guggenheim Bilbao\, and the Los Angeles Museum of Contemporary Art. Kurt is the recipient of a Rockefeller Foundation Media Arts Fellowship\, and received First Prize at the Transmediale International Media Art Festival in Berlin in 2003. Kurt programmed and co-designed the 9-channel video installation that is permanently in the lobby of the MoMA in NYC. \nHans Tammen has received a Fellowship from the New York Foundation of the Arts (NYFA) and has recorded on labels such as Innova\, ESP-DISK\, Nur/Nicht/Nur\, Creative Sources\, Leo Records\, Potlatch\, Cadence\, and Hybrid. \nNick Didkovsky has received commissioning grants from The Mary Flagler Cary Charitable Trust\, Meet the Composer’s Commissioning/Music USA\, the Jerome Foundation\, the Aaron Copland Fund and was awarded a New York Foundation for the Arts Computer Arts Fellowship. He has performed at the Whitney Museum of American Art and is the principle author of the computer music language Java Music Specification Language (JMSL). \nNick Didkovsky’s Web site  |  Kurt Ralske’s Web site  |  Hans Tammen’s Web site
URL:https://www.monmouth.edu/events/event/shadow-puppies/
ATTACH;FMTTYPE=image/jpeg:https://www.monmouth.edu/events/wp-content/uploads/sites/19/2018/07/shadow_puppies_thumbnail.jpg
END:VEVENT
END:VCALENDAR